BEGIN:VCALENDAR
VERSION:2.0
PRODID:-//eventon.com NONSGML v1.0//EN
CALSCALE:GREGORIAN
METHOD:PUBLISH
BEGIN:VEVENT
UID:69eb66705c933
DTSTAMP:20260424T124744Z
DTSTART:20240420T180000Z
DTEND:20240420T215900Z
LOCATION:Radisson RED Hotel\,  Aarhus Radisson RED Hotel\,  Aarhus
SUMMARY:KarmaKlubben ØstJylland • Aarhus // Dansefest • Lørdag 20. april
DESCRIPTION:🎉 FESTKALENDER: Jylland 2024 🎉 AARHUS⭐ Lørdag 13. jan.
 \,  kl. 20-24: Nytårkur⭐ Lørdag 24. feb.\,  kl. 20-24 ⭐ Lørdag 23. m
 arts\,  kl. 20-24: PåskeFest⭐ Lørdag 20. april\,  kl. 20-24⭐ Lørdag 
 25. maj\,  kl. 20-24⭐ Lørdag 15. juni\,  kl. 18/20-24: Sommerfest AALBOR
 G⭐ Lørdag 13. jan.\,  kl. 20-24: Nytårkur⭐ Lørdag 16. feb.\, [..]\nh
 ttps://danseparaplyen.azurewebsites.net/events/karmaklubben-ostjylland-aarh
 us-dansefest-lordag-20-april/
URL:https://danseparaplyen.azurewebsites.net/events/karmaklubben-ostjylland-aarhus-dansefest-lordag-20-april/
END:VEVENT
END:VCALENDAR