BEGIN:VCALENDAR
VERSION:2.0
PRODID:-//eventon.com NONSGML v1.0//EN
CALSCALE:GREGORIAN
METHOD:PUBLISH
BEGIN:VEVENT
UID:69eaa49ae7648
DTSTAMP:20260423T230042Z
DTSTART:20240221T190000Z
DTEND:20240221T200000Z
LOCATION:Folkestedet Carl Blochs Gade 28 \,  Aarhus C Folkestedet Carl Blochs Gade 28 \,  Aarhus C
SUMMARY:Bachata-Improver
DESCRIPTION:😊 Sensual Bachata &#8211; Level &gt; ImproverFREE of charge 
 first time 😳 Wednesdays Bachata classes 20.00 &#8211; 21.00Teachers &gt;
  Michael/Charlotte R.👍 Focus &gt;Technique &#038; Moves …Leading and f
 ollowing😳 Price : 250kr/3 month You can take several classes for that pr
 iceSalsa Classes m.m included too ..Depending on your level https://www.fac
 ebook.com/events/376507595014693/\nhttps://danseparaplyen.azurewebsites.net
 /events/bachata-improver-2/
URL:https://danseparaplyen.azurewebsites.net/events/bachata-improver-2/
END:VEVENT
END:VCALENDAR