BEGIN:VCALENDAR
VERSION:2.0
PRODID:-//eventon.com NONSGML v1.0//EN
CALSCALE:GREGORIAN
METHOD:PUBLISH
BEGIN:VEVENT
UID:69ea8ea354da0
DTSTAMP:20260423T212659Z
DTSTART:20240221T184000Z
DTEND:20240221T213000Z
LOCATION:Folkestedet Folkestedet
SUMMARY:Kizomba drop in onsdag
DESCRIPTION:Velkommen til endnu en kizomba-fest på Folkestedet 💃🏻
 🏻 INTRO 💃🏻🕺🏻Kl.19.40 vil Criss Kizz stå for onsdagens intr
 o i Kizomba. Uanset om du er nybegynder eller øvet\,  er du velkommen til 
 at deltage! Criss\,  Folkestedets erfarne kizomaunderviser\,  fokuserer på
  grundtrin\,  samt essentielle &#8220;Kizomba-regler&#8221; så deltagerne 
 får en fornemmelse af\,  hvad det[..]\nhttps://danseparaplyen.azurewebsite
 s.net/events/kizomba-drop-in-onsdag-3/
URL:https://danseparaplyen.azurewebsites.net/events/kizomba-drop-in-onsdag-3/
END:VEVENT
END:VCALENDAR