BEGIN:VCALENDAR
VERSION:2.0
PRODID:-//eventon.com NONSGML v1.0//EN
CALSCALE:GREGORIAN
METHOD:PUBLISH
BEGIN:VEVENT
UID:69e9df76da028
DTSTAMP:20260423T085934Z
DTSTART:20240218T164500Z
DTEND:20240218T190000Z
LOCATION:Studenterhus Aarhus Studenterhus Aarhus
SUMMARY:West Coast Swing + Lounge + Swayd skosalg  på Bailatina
DESCRIPTION:Mød op på Bailatina \,  det hotteste dansested i Aarhus den 1
 8 /2 til masser af West Coast swing 🎶🎶🎶 •wcs workshop 17.45- 18.
 45 •wcs lounge/social 19-20 •skosalg 20 -21.30 👉👉👉👉danse-ko
 mpagniet med de fedeste dansesko brand Swayd &#038; LeoDance Italy Niveauet
  vil være begynder/improver (Entre betales til Bailaitina ) https://www.fa
 cebook.com/events/1064425258161627/\nhttps://danseparaplyen.azurewebsites.n
 et/events/west-coast-swing-lounge-swayd-skosalg-pa-bailatina/
URL:https://danseparaplyen.azurewebsites.net/events/west-coast-swing-lounge-swayd-skosalg-pa-bailatina/
END:VEVENT
END:VCALENDAR