BEGIN:VCALENDAR
VERSION:2.0
PRODID:-//eventon.com NONSGML v1.0//EN
CALSCALE:GREGORIAN
METHOD:PUBLISH
BEGIN:VEVENT
UID:69ed7d7f70cf3
DTSTAMP:20260426T025039Z
DTSTART:20240207T190000Z
DTEND:20240207T200000Z
LOCATION:Folkestedet Carl Blochs Gade 28 \,  Aarhus C Folkestedet Carl Blochs Gade 28 \,  Aarhus C
SUMMARY:Bachata-Improver
DESCRIPTION:😊 Sensual Bachata &#8211; Level &gt; ImproverFREE of charge 
 first time 😳 Wednesdays Bachata classes 20.00 &#8211; 21.00Teachers &gt;
  Michael/Charlotte R.👍 Focus &gt;Technique &#038; Moves …Leading and f
 ollowing😳 Price : 250kr/3 monthYou can take several classes for that pri
 ceSalsa Classes m.m included too ..Depending on your level https://www.face
 book.com/events/305564382491249/\nhttps://danseparaplyen.azurewebsites.net/
 events/bachata-improver/
URL:https://danseparaplyen.azurewebsites.net/events/bachata-improver/
END:VEVENT
END:VCALENDAR