BEGIN:VCALENDAR
VERSION:2.0
PRODID:-//eventon.com NONSGML v1.0//EN
CALSCALE:GREGORIAN
METHOD:PUBLISH
BEGIN:VEVENT
UID:69eb121f8ac7b
DTSTAMP:20260424T064759Z
DTSTART:20240222T190000Z
DTEND:20240222T200000Z
LOCATION:Teaterskolen Move'n Act Teaterskolen Move'n Act
SUMMARY:Bachata Course (Improver level)
DESCRIPTION:Hey Bachata Enthusiasts! Get ready to elevate your dance skills
  and continue your journey into the world of Bachata with our NEW season of
  Bachata Improvers with Nico and Karina at Caribe Club! 🎉✨ 🎓 Course
  Highlights: This Bachata Improvers Season is designed for those who alread
 y know the basics.[..]\nhttps://danseparaplyen.azurewebsites.net/events/bac
 hata-course-improver-level-3/
URL:https://danseparaplyen.azurewebsites.net/events/bachata-course-improver-level-3/
END:VEVENT
END:VCALENDAR