BEGIN:VCALENDAR
VERSION:2.0
PRODID:-//eventon.com NONSGML v1.0//EN
CALSCALE:GREGORIAN
METHOD:PUBLISH
BEGIN:VEVENT
UID:69ece57d5afdf
DTSTAMP:20260425T160205Z
DTSTART:20240206T180000Z
DTEND:20240206T190000Z
LOCATION:Teaterskolen Move'n Act Teaterskolen Move'n Act
SUMMARY:Cuban salsa Rueda de Casino - Open level class
DESCRIPTION:🌟 Open Class: Cuban Salsa 🌟 Join us for open-level dance 
 classes every Tuesday at Caribe Club in Aarhus! Try drop-in Cuban Salsa &#8
 211; Rueda de Casino &#8211; class with our instructors! 📍 Where: Moven 
 Act\,  Grønnegade 93e\,  8000 Aarhus🗓️ Date: Tuesday\,  February 6th
  Time: 19:00-20.00💃 Level: Open level💰 Price:[..]\nhttps://dansepar
 aplyen.azurewebsites.net/events/cuban-salsa-rueda-de-casino-open-level-clas
 s/
URL:https://danseparaplyen.azurewebsites.net/events/cuban-salsa-rueda-de-casino-open-level-class/
END:VEVENT
END:VCALENDAR