BEGIN:VCALENDAR
VERSION:2.0
PRODID:-//eventon.com NONSGML v1.0//EN
CALSCALE:GREGORIAN
METHOD:PUBLISH
BEGIN:VEVENT
UID:69eb51f32ed1e
DTSTAMP:20260424T112019Z
DTSTART:20240420T170000Z
DTEND:20240420T230000Z
LOCATION:Aalborg Streetfood Skudehavnsvej 35-37\,  9000 Aalborg\,  Denmark
SUMMARY:SALSA & BACHATA PARTY: Aalborg-Aarhus MeetUp
DESCRIPTION:SALSA/BACHATA/KIZOMBA/ZOUK A special Dance Night in collaborati
 on with Aarhus Dance Festival on Sat 20th April💃🕺 💥an opportunity 
 to get your festival pass for a special discounted price only at this event
 💥✨Fantastic night full of fun\,  smiles\,  great dancing and music in 
 a lovely atmosphere✨Guest teachers from Aarhus✨The most fun and[..]\nht
 tps://danseparaplyen.azurewebsites.net/events/salsa-bachata-party-aalborg-a
 arhus-meetup/
URL:https://danseparaplyen.azurewebsites.net/events/salsa-bachata-party-aalborg-aarhus-meetup/
END:VEVENT
END:VCALENDAR