BEGIN:VCALENDAR
VERSION:2.0
PRODID:-//eventon.com NONSGML v1.0//EN
CALSCALE:GREGORIAN
METHOD:PUBLISH
BEGIN:VEVENT
UID:69ea7a1db6ec8
DTSTAMP:20260423T195925Z
DTSTART:20240221T180000Z
DTEND:20240221T200000Z
LOCATION:Samsøgades Skole Samsøgades Skole
SUMMARY:Onsdagsdans-Irsk set dance i Århus
DESCRIPTION:Husk at melde ind her om du kommer eller ej. Og tjek begivenhed
 en inden du kører hjemmefra. https://www.facebook.com/events/2731602466992
 912/\nhttps://danseparaplyen.azurewebsites.net/events/onsdagsdans-irsk-set-
 dance-i-arhus-2/
URL:https://danseparaplyen.azurewebsites.net/events/onsdagsdans-irsk-set-dance-i-arhus-2/
END:VEVENT
END:VCALENDAR