BEGIN:VCALENDAR
VERSION:2.0
PRODID:-//eventon.com NONSGML v1.0//EN
CALSCALE:GREGORIAN
METHOD:PUBLISH
BEGIN:VEVENT
UID:69e78b8cc259d
DTSTAMP:20260421T143700Z
DTSTART:20240128T164500Z
DTEND:20240128T213000Z
LOCATION:Stakladen Live Stakladen Live
SUMMARY:Bachata and Salsa Night with Reggaeton
DESCRIPTION:Program (english version below): Studenterhus Aarhus og Salsacl
 ave glæder sig til at danse med jer – det bliver fantastisk! Bare trop o
 p ved indgangen. Man skal ikke tilmelde sig på forhånd 🙂 17.45-18.45: 
 BACHATA og REGGAETON: • Bachata for begyndere/improvers med Lars Heibroch
 • Bachata for letøvede/øvede med Julia Schlög og[..]\nhttps://dansepar
 aplyen.azurewebsites.net/events/bachata-and-salsa-night-with-reggaeton/
URL:https://danseparaplyen.azurewebsites.net/events/bachata-and-salsa-night-with-reggaeton/
END:VEVENT
END:VCALENDAR