BEGIN:VCALENDAR
VERSION:2.0
PRODID:-//eventon.com NONSGML v1.0//EN
CALSCALE:GREGORIAN
METHOD:PUBLISH
BEGIN:VEVENT
UID:69ed0b6641e46
DTSTAMP:20260425T184350Z
DTSTART:20240123T180000Z
DTEND:20240123T204500Z
LOCATION:Folkestedet Folkestedet
SUMMARY:Zouklounge 23/1
DESCRIPTION:19-20: Drop-in undervisning med Frederik. Vi arbejder med at ø
 ge kvaliteten af vores bevægelser samt have mere blødhed og hengivenhed. 
 Niveauet er højt\,  og deltagelse forudsætter solidt kendskab til headmov
 es\,  brystkasse-isolations og waves.20-21.45: Fri dans\,  Frederik er DJ. 
 Sted: Folkestedet lokale 0.3 (i stueetagen). Ring evt. på klokken ved vore
 s[..]\nhttps://danseparaplyen.azurewebsites.net/events/zouklounge-23-1/
URL:https://danseparaplyen.azurewebsites.net/events/zouklounge-23-1/
END:VEVENT
END:VCALENDAR