BEGIN:VCALENDAR
VERSION:2.0
PRODID:-//eventon.com NONSGML v1.0//EN
CALSCALE:GREGORIAN
METHOD:PUBLISH
BEGIN:VEVENT
UID:69e64b7ad8e8d
DTSTAMP:20260420T155122Z
DTSTART:20240512T120000Z
DTEND:20240512T160000Z
LOCATION:Café Mellemfolk Café Mellemfolk
SUMMARY:La Milonguita i maj - with intro kl 13.15
DESCRIPTION:(English below) Det er maj og det er tangotid hos La Milonguita
  &lt;3 Fra kl 13.15-14 er der intro med Tango Malevaje. Så hjælp os med a
 t invitere alle dem\,  I synes skal prøve den dejlige dans. (Join us at th
 e intro class at 13.15\,  and bring your friends 😊[..]\nhttps://dansepar
 aplyen.azurewebsites.net/events/la-milonguita-i-maj-with-intro-kl-13-15/
URL:https://danseparaplyen.azurewebsites.net/events/la-milonguita-i-maj-with-intro-kl-13-15/
END:VEVENT
END:VCALENDAR