BEGIN:VCALENDAR
VERSION:2.0
PRODID:-//eventon.com NONSGML v1.0//EN
CALSCALE:GREGORIAN
METHOD:PUBLISH
BEGIN:VEVENT
UID:69e588c86e759
DTSTAMP:20260420T020040Z
DTSTART:20240510T160000Z
DTEND:20240510T180000Z
LOCATION:Fitness United Risskov Fitness United Risskov
SUMMARY:UDSOLGT 10 Maj/Århus GROOVE
DESCRIPTION:UDSOLGT2 timers GROOVE Dance your heart out i en 2 timers skøn
  “groovebobbel”. Alle kan deltage\,  ingen Groove erfaring nødvendig. 
 Har du ikke prøvet Groove før? Se fuld beskrivelse på www.tribeofdancers
 .dk Tid: 18.00-20.00Pris: 200\, -(Betaling ved ankomst\,  kontant eller mob
 ile pay) Tilmelding:https://calendly.com/groovedancebynomi https://www.face
 book.com/events/2114856965533987/\nhttps://danseparaplyen.azurewebsites.net
 /events/10-maj-arhus-groove/
URL:https://danseparaplyen.azurewebsites.net/events/10-maj-arhus-groove/
END:VEVENT
END:VCALENDAR