BEGIN:VCALENDAR
VERSION:2.0
PRODID:-//eventon.com NONSGML v1.0//EN
CALSCALE:GREGORIAN
METHOD:PUBLISH
BEGIN:VEVENT
UID:69e7647fe17d9
DTSTAMP:20260421T115023Z
DTSTART:20240201T170000Z
DTEND:20240201T190000Z
LOCATION:CasaV58 CasaV58
SUMMARY:Oplev Salsa & Bachata workshop med Miguel Flores i CasaV58!
DESCRIPTION:Smag på Rytmen i Salsaworkshoppen i Aarhus! Hvis du altid har 
 drømt om at lære at danse salsa og bachata med ægte latinamerikansk stil
 \,  så er chancen her nu. Den erfarne instruktør Miguel Flores\,  med 32 
 års erfaring\,  inviterer dig til at dykke ned i salsaens og bachataens ve
 rden i[..]\nhttps://danseparaplyen.azurewebsites.net/events/oplev-salsa-bac
 hata-workshop-med-miguel-flores-i-casav58/
URL:https://danseparaplyen.azurewebsites.net/events/oplev-salsa-bachata-workshop-med-miguel-flores-i-casav58/
END:VEVENT
END:VCALENDAR