BEGIN:VCALENDAR
VERSION:2.0
PRODID:-//eventon.com NONSGML v1.0//EN
CALSCALE:GREGORIAN
METHOD:PUBLISH
BEGIN:VEVENT
UID:69e77773e8e8d
DTSTAMP:20260421T131115Z
DTSTART:20240129T173000Z
DTEND:20240129T203000Z
LOCATION:Skovvangsvej 150\,  8200 Aarhus N\,  Danmark Skovvangsvej 150\,  8200 Aarhus N\,  Danmark
SUMMARY:GRATIS INTRO - Swing og Rock'n'roll hos Kom og Dans Aarhus Ungdom
DESCRIPTION:Kom og Dans Aarhus Ungdom holder gratis prøvetime d. 22 januar
  og d. 29 januar! 😀 Aftenen er åben for alle interesserede &#8211; det 
 eneste krav er\,  at du er under 30 år. Vi danser swing og rock&#8217;n ro
 ll og lærer at lave en fest på dansegulvet\,  hvor vi skifter[..]\nhttps:
 //danseparaplyen.azurewebsites.net/events/gratis-intro-swing-og-rocknroll-h
 os-kom-og-dans-aarhus-ungdom-2/
URL:https://danseparaplyen.azurewebsites.net/events/gratis-intro-swing-og-rocknroll-hos-kom-og-dans-aarhus-ungdom-2/
END:VEVENT
END:VCALENDAR