BEGIN:VCALENDAR
VERSION:2.0
PRODID:-//eventon.com NONSGML v1.0//EN
CALSCALE:GREGORIAN
METHOD:PUBLISH
BEGIN:VEVENT
UID:69ed220f6776b
DTSTAMP:20260425T202031Z
DTSTART:20240124T180000Z
DTEND:20240124T200000Z
LOCATION:Samsøgades Skole Samsøgades Skole
SUMMARY:Onsdagsdans-Irsk set dance i Århus
DESCRIPTION:Første danseaften i 2024 &#8211; kom glad 🙂 Husk at melde i
 nd her om du kommer eller ej. Og tjek begivenheden inden du kører hjemmefr
 a. https://www.facebook.com/events/1110093276666165/\nhttps://danseparaplye
 n.azurewebsites.net/events/onsdagsdans-irsk-set-dance-i-arhus/
URL:https://danseparaplyen.azurewebsites.net/events/onsdagsdans-irsk-set-dance-i-arhus/
END:VEVENT
END:VCALENDAR